BEGIN:VCALENDAR
VERSION:2.0
PRODID:-//hacksw/handcal//NONSGML v1.0//EN
BEGIN:VEVENT
SUMMARY:Deplacement en Pologne
UID:fe35534b-df93-4ca4-80ae-f32252878fd2
DTSTART:20260915T220000Z
DTEND:20260921T220000Z
LOCATION:Localisation   
CATEGORIES:Sportif
STATUS:
DESCRIPTION:<p style="text-align:center;"><span
 style="font-size:18px;"><strong>Le Judo Club Ronchamp se deplace en
 Pologne du 16 au 21 septembre
 2026</strong></span></p>
 
 <p><u><strong>Pour les judokas nes entre
 2012 et 2015</strong></u></p>
 
 <p> </p>
 
 <p><u>Le planning
 previdionnel :</u></p>
 
 <p><i><u>Mercredi 16 septembre
 2026</u></i></p>
 
 <ul>
 	<li>04 h 45 : Presence de tout le
 monde</li>
 	<li>05 h 00 : Depart de Ronchamp</li>
 	<li>18 h 00 :
 Arriver a Wroclaw (Pologne)</li>
 	<li>19 h 00 : Visite de
 Wroclaw</li>
 	<li>20 h 30 : Repas</li>
 </ul>
 
 <p><i><u>Jeudi 17
 septembre 2026</u></i></p>
 
 <ul>
 	<li>07 h 00 : Petit
 dejeuner</li>
 	<li>08 h 00 : Devoirs scolaire</li>
 	<li>09 h 00 :
 Depart de Wroclaw</li>
 	<li>12 h 00 : Arrive a
 Sulkowice</li>
 	<li>13 h 00 : Repas</li>
 	<li>14 h 00 : Visite de
 Sulkowice</li>
 	<li>18 h 00 : Entrainement a Sulkowice</li>
 	<li>20 h
 00 : Repas</li>
 	<li>20 h 00 : Accueil des anciens judokas et amis de
 Sulkowice</li>
 </ul>
 
 <p><i><u> Vendredi 18 septembre
 2026</u></i></p>
 
 <ul>
 	<li>08 h 00 : Petit dejeuner</li>
 	<li>09 h
 00 : Depart pour Cracovie</li>
 	<li>10 h 00 : Visite de
 Cracovie</li>
 	<li>18 h 00 : Retour a Sulkowice</li>
 	<li>19 h 00 :
 Repas</li>
 	<li>20 h 00 : Devoirs scolaire</li>
 	<li>21 h 00 :
 Nuit</li>
 </ul>
 
 <p><i><u>Samedi 19 septembre
 2026</u></i></p>
 
 <ul>
 	<li>08 h 00 : Petit dejeuner</li>
 	<li>09 h
 00 : Depart de Sulkowice</li>
 	<li>10 h 00 : Arrivee a
 Zakopane</li>
 	<li>12 h 00 : Pesee</li>
 	<li>14 h 00 : Debut
 competition </li>
 	<li>18 h 00 : Visite Zakopane</li>
 	<li>20 h
 00 : Repas</li>
 </ul>
 
 <p><i><u>Dimanche 20 septembre
 2026</u></i></p>
 
 <ul>
 	<li>08 h 00 : Petit dejeuner</li>
 	<li>10 h
 00 : Stage a Zakopane</li>
 	<li>12 h 00 : Repas</li>
 	<li>14 h
 00 : Depart de Zakopane</li>
 	<li>19 h 00 : Arrive a
 Wroclaw</li>
 	<li>20 h 00 : Repas</li>
 </ul>
 
 <p><i><u>Lundi 21
 septembre 2026</u></i></p>
 
 <ul>
 	<li>04 h 00 : Petit
 dejeuner</li>
 	<li>05 h 00 : Depart de Wroclaw</li>
 	<li>19 h 00 :
 Arrive a Ronchamp</li>
 </ul>
 
 <p> </p>
 
 <p><em>Le cout previsionnel
 :</em></p>
 
 <ul>
 	<li><em>250 € par judoka </em></li>
 </ul>
URL;VALUE=URI:https://www.jcronchamp.fr/evenements/2026/09/16/deplacement-en-pologne-2427254
END:VEVENT
END:VCALENDAR
