BEGIN:VCALENDAR
VERSION:2.0
PRODID:-//hacksw/handcal//NONSGML v1.0//EN
BEGIN:VEVENT
SUMMARY:Initiation fete des ecoles du centre
UID:f0267c1c-9a26-4cde-b206-4e12943e5b9f
DTSTART:20260627T070000Z
DTEND:20260627T140000Z
LOCATION:Localisation   
CATEGORIES:Sportif
STATUS:
URL;VALUE=URI:https://www.jcronchamp.fr/evenements/2026/06/27/initiation-fete-des-ecoles-du-centre-2434082
END:VEVENT
END:VCALENDAR
