BEGIN:VCALENDAR
VERSION:2.0
PRODID:-//hacksw/handcal//NONSGML v1.0//EN
BEGIN:VEVENT
SUMMARY:Repas convivial
UID:d5a4a506-5112-4007-85ae-f9754a715048
DTSTART:20260412T100000Z
DTEND:20260412T130000Z
LOCATION:Localisation   
CATEGORIES:Festif
STATUS:
URL;VALUE=URI:https://www.jcronchamp.fr/evenements/2026/04/12/repas-convivial-2432442
END:VEVENT
END:VCALENDAR
