BEGIN:VCALENDAR
VERSION:2.0
PRODID:-//hacksw/handcal//NONSGML v1.0//EN
BEGIN:VEVENT
SUMMARY:Repas samedi soir
UID:8087ded6-2a82-4cfe-a0c2-7577edba99bf
DTSTART:20260411T183000Z
DTEND:20260411T210000Z
LOCATION:Localisation   
CATEGORIES:Festif
STATUS:
DESCRIPTION:<h1 style="text-align:center;"><strong><span
 style="color:#2980b9;">Repas du samedi soir 11 avril
 2026</span></strong></h1>
 
 <h2
 style="text-align:center;"><strong><span style="color:#2980b9;">(a
 partir de 20 h 30)</span></strong></h2>
 
 <p> </p>
 
 <p><span
 style="font-size:14px;">a l'occasion de notre animation ne-waza et
 l'accueil de la delegation Italienne, nous organisons un repas le
 samedi soir.</span></p>
 
 <p><span style="font-size:14px;">Menu
 :</span></p>
 
 <ul>
 	<li><span
 style="font-size:14px;">Rouelle</span></li>
 	<li><span
 style="font-size:14px;">Poulet</span></li>
 	<li><span
 style="font-size:14px;">Gratin de courgettes</span></li>
 	<li><span
 style="font-size:14px;">Gratin de
 poireaux</span></li>
 	<li>Tarte</li>
 	<li>Eau plate - Eau
 petillante</li>
 </ul>
 
 <p>Le prix sera entre : 10 € par adulte,
 entre 7 € pour moins de 12 ans</p>
 
 <p><span
 style="font-size:22px;"><strong>Pour la reservation des repas aller
 directement dans la boutique du Judo Club Ronchamp, rubrique
 restauration</strong></span></p>
 
 <p><span style="font-size:18px;"><a
 href="https://jcronchamp.fr/produit/repas-76973" target="_blank"
 rel="noreferrer noopener">Boutique - Judo Club
 Ronchamp</a></span></p>
 
 <p><span style="font-size:18px;">Pour les
 paiements par cheque ou espece, choisir les repas a 0 € (pour outre
 passer le reglement sur le site), une facture vous sera
 envoye</span></p>
URL;VALUE=URI:https://www.jcronchamp.fr/evenements/2026/04/11/repas-samedi-soir-2433664
END:VEVENT
END:VCALENDAR
