BEGIN:VCALENDAR
VERSION:2.0
PRODID:-//hacksw/handcal//NONSGML v1.0//EN
BEGIN:VEVENT
SUMMARY:Gateaux animation ne-waza
UID:f793e61e-0052-40d5-8df0-b0f45c8682de
DTSTART:20260410T220000Z
DTEND:20260411T220000Z
LOCATION:Localisation   
CATEGORIES:Manifestation
STATUS:
DESCRIPTION:<p style="text-align:center;"><span
 style="font-size:20px;"><strong>GATEAUX POUR MISE EN
 VENTE</strong></span></p>
 
 <p> </p>
 
 <p><span
 style="font-size:16px;">Nous faisons appel aux parents pour
 confectionner des gateaux qui seront en vente pour notre animation du
 11 avril 2026</span></p>
URL;VALUE=URI:https://www.jcronchamp.fr/evenements/2026/04/11/gateaux-animation-ne-waza-2439160
END:VEVENT
END:VCALENDAR
